BEGIN:VCALENDAR
VERSION:2.0
PRODID:-//Društvo harfistov Slovenije - ECPv5.15.0.1//NONSGML v1.0//EN
CALSCALE:GREGORIAN
METHOD:PUBLISH
X-WR-CALNAME:Društvo harfistov Slovenije
X-ORIGINAL-URL:https://drustvoharfistovslovenije.si/en
X-WR-CALDESC:Events for Društvo harfistov Slovenije
REFRESH-INTERVAL;VALUE=DURATION:PT1H
X-Robots-Tag:noindex
X-PUBLISHED-TTL:PT1H
BEGIN:VTIMEZONE
TZID:Europe/Ljubljana
BEGIN:DAYLIGHT
TZOFFSETFROM:+0100
TZOFFSETTO:+0200
TZNAME:CEST
DTSTART:20220327T010000
END:DAYLIGHT
BEGIN:STANDARD
TZOFFSETFROM:+0200
TZOFFSETTO:+0100
TZNAME:CET
DTSTART:20221030T010000
END:STANDARD
END:VTIMEZONE
BEGIN:VEVENT
DTSTART;TZID=Europe/Ljubljana:20221216T180000
DTEND;TZID=Europe/Ljubljana:20221216T193000
DTSTAMP:20260419T182524
CREATED:20221124T172548Z
LAST-MODIFIED:20221124T172548Z
UID:11606-1671213600-1671219000@drustvoharfistovslovenije.si
SUMMARY:Koncert orkestra harf GŠ Celje
DESCRIPTION:Orkester harf\, katerega umetniški vodja je Erika Frantar\, bo pod taktirko dirigenta Matjaža Brežnika zazvenel v prednovoletnem programu\, kjer bomo slišali dela Bedricha Smetane\, Johna Williamsa\, Astorja Piazzolle in drugih. Za vstopnico pišite v inbox ali mail društva harfistov Slovenije.
URL:https://drustvoharfistovslovenije.si/en/event/koncert-orkestra-harf-gs-celje/
ATTACH;FMTTYPE=image/jpeg:https://drustvoharfistovslovenije.si/wp-content/uploads/2022/11/received_465606302148786-1-e1669310736905.jpeg
END:VEVENT
BEGIN:VEVENT
DTSTART;TZID=Europe/Ljubljana:20221125T190000
DTEND;TZID=Europe/Ljubljana:20221125T200000
DTSTAMP:20260419T182524
CREATED:20221124T171637Z
LAST-MODIFIED:20221124T172055Z
UID:11597-1669402800-1669406400@drustvoharfistovslovenije.si
SUMMARY:Naja Mohorič: Glasbena šola Nazarje
DESCRIPTION:
URL:https://drustvoharfistovslovenije.si/en/event/11597/
LOCATION:Naja Mohorič – Glasbena šola Nazarje
ATTACH;FMTTYPE=image/png:https://drustvoharfistovslovenije.si/wp-content/uploads/2022/11/NajaMohoricIG.png
END:VEVENT
BEGIN:VEVENT
DTSTART;TZID=Europe/Ljubljana:20220627T200000
DTEND;TZID=Europe/Ljubljana:20220627T200000
DTSTAMP:20260419T182524
CREATED:20220613T225716Z
LAST-MODIFIED:20220613T225716Z
UID:11528-1656360000-1656360000@drustvoharfistovslovenije.si
SUMMARY:Pozdrav poletju s harfo in klavirjem
DESCRIPTION:
URL:https://drustvoharfistovslovenije.si/en/event/pozdrav-poletju-s-harfo-in-klavirjem/
ATTACH;FMTTYPE=image/webp:https://drustvoharfistovslovenije.si/wp-content/uploads/2022/06/received_730910335000861.webp
END:VEVENT
BEGIN:VEVENT
DTSTART;TZID=Europe/Ljubljana:20220616T180000
DTEND;TZID=Europe/Ljubljana:20220616T180000
DTSTAMP:20260419T182524
CREATED:20220613T055040Z
LAST-MODIFIED:20220613T055040Z
UID:11510-1655402400-1655402400@drustvoharfistovslovenije.si
SUMMARY:Koncert orkestra harf Glasbene šole Celje
DESCRIPTION:
URL:https://drustvoharfistovslovenije.si/en/event/koncert-orkestra-harf-glasbene-sole-celje/
ATTACH;FMTTYPE=image/webp:https://drustvoharfistovslovenije.si/wp-content/uploads/2022/06/received_576414607229278.webp
END:VEVENT
END:VCALENDAR